BEGIN:VCALENDAR
VERSION:2.0
PRODID:-//Tukios.com/
BEGIN:VEVENT
UID:26be246c-f83b-478c-a332-1551234fb3c8@www.sparksgriffin.com
DTSTAMP:20260423T200125Z
DTSTART:20260425T150000Z
DTEND:20260425T160000Z
SUMMARY:Memorial Service
DESCRIPTION:
URL:https://www.sparksgriffin.com/obituaries/mary-harrelson
LOCATION:White Chapel Cemetery 621 West Long Lake Road  Troy MI 48098
GEO:42.5909332;-83.164272
END:VEVENT
END:VCALENDAR