BEGIN:VCALENDAR
VERSION:2.0
PRODID:-//Tukios.com/
BEGIN:VEVENT
UID:62ee1dc6-350a-4393-b348-48f549bcf01a@www.sparksgriffin.com
DTSTAMP:20260423T200255Z
DTSTART:20260425T170000Z
DTEND:20260425T180000Z
SUMMARY:Celebration of Life
DESCRIPTION:
URL:https://www.sparksgriffin.com/obituaries/rachel-ann-hollens
LOCATION:Sparks-Griffin Funeral Home 111 E Flint St  Lake Orion MI 48362
GEO:42.7849468;-83.2384021
END:VEVENT
END:VCALENDAR