BEGIN:VCALENDAR
VERSION:2.0
PRODID:-//Tukios.com/
BEGIN:VEVENT
UID:db667ead-241a-4ecf-b54c-ef9f2027f514@www.sparksgriffin.com
DTSTAMP:20260423T200422Z
DTSTART:20260425T160000Z
DTEND:20260425T170000Z
SUMMARY:Visitation
DESCRIPTION:
URL:https://www.sparksgriffin.com/obituaries/rachel-ann-hollens
LOCATION:Sparks-Griffin Funeral Home 111 E Flint St  Lake Orion MI 48362
GEO:42.7849468;-83.2384021
END:VEVENT
END:VCALENDAR